BEGIN:VCALENDAR
VERSION:2.0
PRODID:-//ChamberMaster//Event Calendar 2.0//EN
METHOD:PUBLISH
X-PUBLISHED-TTL:P3D
REFRESH-INTERVAL:P3D
CALSCALE:GREGORIAN
BEGIN:VEVENT
DTSTART:20200501T003000Z
DTEND:20200501T023000Z
X-MICROSOFT-CDO-ALLDAYEVENT:FALSE
SUMMARY:Business After Hours: Lagunitas
DESCRIPTION:EVENT POSTPONED- LAGUNITAS LOFT CURRENTLY CLOSED. RESCHEDULE DETAILS TBD. BE WELL\, BE SAFE.\n\n\n\nCome to this Business After Hours mixer and hang with fellow Chamber members in the legendary Lagunitas Loft! \n\n\n\nSpace is limited\, RESERVATIONS REQUIRED:  tara@petalumachamber.com
X-ALT-DESC;FMTTYPE=text/html:<span style="font-size:28px\;"><span style="color:#FF0000\;"><em><strong>EVENT POSTPONED- LAGUNITAS LOFT CURRENTLY CLOSED. RESCHEDULE DETAILS TBD. BE WELL\, BE SAFE.</strong></em></span></span><br />\n<br />\nCome to this Business After Hours mixer and hang with fellow Chamber members in the legendary Lagunitas Loft!&nbsp\;<br />\n<br />\nSpace is limited\, <span style="color:#FF0000\;"><em><strong>RESERVATIONS REQUIRED:&nbsp\;&nbsp\;</strong></em></span><em><span style="color:#0000FF\;">tara@petalumachamber.com</span></em>
LOCATION:Lagunitas Brewing Company 1280 N McDowell Blvd
UID:e.1308.14070
SEQUENCE:3
DTSTAMP:20260420T180049Z
URL:https://business.petalumachamber.biz/events/details/business-after-hours-lagunitas-14070
END:VEVENT

END:VCALENDAR
