BEGIN:VCALENDAR
VERSION:2.0
PRODID:-//ChamberMaster//Event Calendar 2.0//EN
METHOD:PUBLISH
X-PUBLISHED-TTL:P3D
REFRESH-INTERVAL:P3D
CALSCALE:GREGORIAN
BEGIN:VEVENT
DTSTART:20200109T013000Z
DTEND:20200109T030000Z
X-MICROSOFT-CDO-ALLDAYEVENT:FALSE
SUMMARY:Business After Hours: Rohnert Park Retirement Community
DESCRIPTION:Come join Rohnert Park Retirement Community\, the Petaluma Area Chamber of Commerce and the Rohnert Park Chamber of Commerce for an After Hours networking mixer!\n\n~Complimentary appetizers \n\n~Free to attend and open to all\n\n~Raffle prizes\n\n6:15pm - Chamber Member Pot of Gold - All members entered - Must be present to win!
X-ALT-DESC;FMTTYPE=text/html:<span style="color: rgb(29\, 33\, 41)\; font-family: Helvetica\, Arial\, sans-serif\; font-size: 14px\; white-space: pre-wrap\;">Come join Rohnert Park Retirement Community\, the Petaluma Area Chamber of Commerce and the Rohnert Park Chamber of Commerce for an After Hours networking mixer!</span><br style="color: rgb(29\, 33\, 41)\; font-family: Helvetica\, Arial\, sans-serif\; font-size: 14px\; white-space: pre-wrap\;" />\n<span style="color: rgb(29\, 33\, 41)\; font-family: Helvetica\, Arial\, sans-serif\; font-size: 14px\; white-space: pre-wrap\;">~Complimentary appetizers </span><br style="color: rgb(29\, 33\, 41)\; font-family: Helvetica\, Arial\, sans-serif\; font-size: 14px\; white-space: pre-wrap\;" />\n<span style="color: rgb(29\, 33\, 41)\; font-family: Helvetica\, Arial\, sans-serif\; font-size: 14px\; white-space: pre-wrap\;">~Free to attend and open to all</span><br style="color: rgb(29\, 33\, 41)\; font-family: Helvetica\, Arial\, sans-serif\; font-size: 14px\; white-space: pre-wrap\;" />\n<span style="color: rgb(29\, 33\, 41)\; font-family: Helvetica\, Arial\, sans-serif\; font-size: 14px\; white-space: pre-wrap\;">~Raffle prizes</span><br style="color: rgb(29\, 33\, 41)\; font-family: Helvetica\, Arial\, sans-serif\; font-size: 14px\; white-space: pre-wrap\;" />\n<span style="color: rgb(29\, 33\, 41)\; font-family: Helvetica\, Arial\, sans-serif\; font-size: 14px\; white-space: pre-wrap\;">6:15pm - Chamber Member Pot of Gold - All members entered - Must be present to win!</span>
LOCATION:4855 Snyder Ln\, Rohnert Park\, California 94928
UID:e.1308.13976
SEQUENCE:3
DTSTAMP:20260420T131612Z
URL:https://business.petalumachamber.biz/events/details/business-after-hours-rohnert-park-retirement-community-13976
END:VEVENT

END:VCALENDAR
