BEGIN:VCALENDAR
VERSION:2.0
PRODID:-//ChamberMaster//Event Calendar 2.0//EN
METHOD:PUBLISH
X-PUBLISHED-TTL:P3D
REFRESH-INTERVAL:P3D
CALSCALE:GREGORIAN
BEGIN:VEVENT
DTSTART:20191115T003000Z
DTEND:20191115T023000Z
X-MICROSOFT-CDO-ALLDAYEVENT:FALSE
SUMMARY:Business After Hours: The Bagel Mill
DESCRIPTION:Join us at The Bagel Mill for a Business After Hours reception! Check out the beautiful shop along with bagel appetizers\, snacks\, refreshments and raffle prizes!
X-ALT-DESC;FMTTYPE=text/html:Join us at The Bagel Mill for a Business After Hours reception! Check out the beautiful shop along with bagel appetizers\, snacks\, refreshments and raffle prizes!
LOCATION:The Bagel Mill 212 Western Ave\, Petaluma
UID:e.1308.13951
SEQUENCE:3
DTSTAMP:20260420T094102Z
URL:https://business.petalumachamber.biz/events/details/business-after-hours-the-bagel-mill-13951
END:VEVENT

END:VCALENDAR
