BEGIN:VCALENDAR
VERSION:2.0
PRODID:-//ChamberMaster//Event Calendar 2.0//EN
METHOD:PUBLISH
X-PUBLISHED-TTL:P3D
REFRESH-INTERVAL:P3D
CALSCALE:GREGORIAN
BEGIN:VEVENT
DTSTART:20191018T233000Z
DTEND:20191019T030000Z
X-MICROSOFT-CDO-ALLDAYEVENT:FALSE
SUMMARY:Business After Hours: The Hemp General Store
DESCRIPTION:The Hemp General Store invites you to a Business After Hours Reception for Chamber Members on Friday\, October 18th!  Come meet the Chamber's next door neighbors!\n\n	Hear From Industry Professionals about the potential benefits and current regulations of CBD.\n	Ask questions and check out products\n	Enjoy free refreshments\n	Meet amazing people and love life\n\n\n\nEnter to win raffle prizes worth over $300!
X-ALT-DESC;FMTTYPE=text/html:The Hemp General Store invites you to a Business After Hours Reception for Chamber Members on Friday\, October 18th!&nbsp\; Come meet the Chamber&#39\;s next door neighbors!\n<ul>\n	<li>Hear From Industry Professionals about the potential benefits and current regulations of CBD.</li>\n	<li>Ask questions and check out products</li>\n	<li>Enjoy free refreshments</li>\n	<li>Meet amazing people and love life</li>\n</ul>\n<br />\nEnter to win raffle prizes worth over $300!
LOCATION:The Great Petaluma Mill 6 Petaluma Blvd N\, second floor\, Suite B9
UID:e.1308.13931
SEQUENCE:3
DTSTAMP:20260420T081104Z
URL:https://business.petalumachamber.biz/events/details/business-after-hours-the-hemp-general-store-13931
END:VEVENT

END:VCALENDAR
