BEGIN:VCALENDAR
VERSION:2.0
PRODID:-//ChamberMaster//Event Calendar 2.0//EN
METHOD:PUBLISH
X-PUBLISHED-TTL:P3D
REFRESH-INTERVAL:P3D
CALSCALE:GREGORIAN
BEGIN:VEVENT
DTSTART:20190807T233000Z
DTEND:20190808T013000Z
X-MICROSOFT-CDO-ALLDAYEVENT:FALSE
SUMMARY:Business After Hours: Tommy Hilfiger
DESCRIPTION:Let's go shopping at Tommy Hilfiger's Business After Hours!\n\n\n\n20% off your entire purchase at the event\n\n\n\nLight refreshments served
X-ALT-DESC;FMTTYPE=text/html:Let&#39\;s go shopping at Tommy Hilfiger&#39\;s Business After Hours!<br />\n<br />\n20% off your entire purchase at the event<br />\n<br />\nLight refreshments served
LOCATION:2200 Petaluma Blvd N\, Suite #400 Petaluma Village Premium Outlets
UID:e.1308.13780
SEQUENCE:3
DTSTAMP:20260420T041852Z
URL:https://business.petalumachamber.biz/events/details/business-after-hours-tommy-hilfiger-13780
END:VEVENT

END:VCALENDAR
