BEGIN:VCALENDAR
VERSION:2.0
PRODID:-//ChamberMaster//Event Calendar 2.0//EN
METHOD:PUBLISH
X-PUBLISHED-TTL:P3D
REFRESH-INTERVAL:P3D
CALSCALE:GREGORIAN
BEGIN:VEVENT
DTSTART:20271214T230000Z
DTEND:20271215T000000Z
X-MICROSOFT-CDO-ALLDAYEVENT:FALSE
SUMMARY:Business Builders Networking Meeting
DESCRIPTION:Business Builders Networking Meeting
X-ALT-DESC;FMTTYPE=text/html:Business Builders Networking Meeting
LOCATION:1310 Redwood Way\, Suite 200 Petaluma
UID:e.1308.17885
SEQUENCE:3
DTSTAMP:20260420T153825Z
URL:https://business.petalumachamber.biz/events/details/business-builders-networking-meeting-12-14-2027-17885
END:VEVENT

END:VCALENDAR
