BEGIN:VCALENDAR
VERSION:2.0
PRODID:-//ChamberMaster//Event Calendar 2.0//EN
METHOD:PUBLISH
X-PUBLISHED-TTL:P3D
REFRESH-INTERVAL:P3D
CALSCALE:GREGORIAN
BEGIN:VEVENT
DTSTART:20191003T230000Z
DTEND:20191004T020000Z
X-MICROSOFT-CDO-ALLDAYEVENT:FALSE
SUMMARY:Business Expo
DESCRIPTION:THE PETALUMA AREA CHAMBER OF COMMERCE\n\n30th Annual Business Expo\n\n\n\nSave the date!
X-ALT-DESC;FMTTYPE=text/html:<strong><span style="font-family: garamond\, serif\;"><span style="font-size: 28pt\;">THE&nbsp\;PETALUMA&nbsp\;AREA CHAMBER OF COMMERCE<br />\n30th&nbsp\;Annual Business Expo<br />\n<br />\nSave the date!&nbsp\;</span></span></strong>
LOCATION:Petaluma Community Center (Lucchessi Center) 320 N Mc Dowell Boulevard Petaluma
UID:e.1308.12922
SEQUENCE:3
DTSTAMP:20260420T081027Z
URL:https://business.petalumachamber.biz/events/details/business-expo-12922
END:VEVENT

END:VCALENDAR
