BEGIN:VCALENDAR
VERSION:2.0
PRODID:-//ChamberMaster//Event Calendar 2.0//EN
METHOD:PUBLISH
X-PUBLISHED-TTL:P3D
REFRESH-INTERVAL:P3D
CALSCALE:GREGORIAN
BEGIN:VEVENT
DTSTART:20200425T170000Z
DTEND:20200426T000000Z
X-MICROSOFT-CDO-ALLDAYEVENT:FALSE
SUMMARY:Butter & Egg Days Parade
DESCRIPTION:The 39th Annual Petaluma's Butter & Egg Days Parade celebrates all things Petaluma\, the people\, history and the stories we love to tell. The 2020 theme "Community   The Heart of Petaluma!" recognizes the importance of our outstanding\, engaged nonprofits\, businesses\, and volunteers with huge giving hearts that fuel our community spirit. It's what makes Petaluma such a special place to live. The parade features live animals\, marching bands\, floats and more. Watch over 110 organizations march through Downtown\, enjoy food and drink\, music\, arts and crafts\, and an area dedicated to kids! The parade steps off at noon on Saturday\, April 25th\, surrounded by a festival of fun and activities from 10am to 5pm.
X-ALT-DESC;FMTTYPE=text/html:The 39th Annual Petaluma&rsquo\;s Butter &amp\; Egg Days Parade celebrates all things Petaluma\, the people\, history and the stories we love to tell. The 2020 theme &ldquo\;Community &ndash\; The Heart of Petaluma!&rdquo\; recognizes the importance of our outstanding\, engaged nonprofits\, businesses\, and volunteers with huge giving hearts that fuel our community spirit. It&rsquo\;s what makes Petaluma such a special place to live. The parade features live animals\, marching bands\, floats and more. Watch over 110 organizations march through Downtown\, enjoy food and drink\, music\, arts and crafts\, and an area dedicated to kids! The parade steps off at noon on Saturday\, April 25th\, surrounded by a festival of fun and activities from 10am to 5pm.
LOCATION:Historic Downtown Petaluma
UID:e.1308.14058
SEQUENCE:3
DTSTAMP:20260420T193020Z
URL:https://business.petalumachamber.biz/events/details/butter-egg-days-parade-14058
END:VEVENT

END:VCALENDAR
