BEGIN:VCALENDAR
VERSION:2.0
PRODID:-//ChamberMaster//Event Calendar 2.0//EN
METHOD:PUBLISH
X-PUBLISHED-TTL:P3D
REFRESH-INTERVAL:P3D
CALSCALE:GREGORIAN
BEGIN:VEVENT
DTSTART:20200311T003000Z
DTEND:20200311T033000Z
X-MICROSOFT-CDO-ALLDAYEVENT:FALSE
SUMMARY:Butter & Egg Days Parade Button Launch Fundraiser
DESCRIPTION:Join us for Taco Tuesday at Lagunitas! Enjoy a fun evening of live music from Randy & the Special Agents\, delicious food from 3 Hermanos Mexican Grill\, great company and the opportunity to purchase your "we love our parade button" and this year's poster. Join us in keeping our beloved parade marching forward. We look forward to seeing you there!!
X-ALT-DESC;FMTTYPE=text/html:Join us for Taco Tuesday at Lagunitas! Enjoy a fun evening of live music from Randy &amp\; the Special Agents\, delicious food from 3 Hermanos Mexican Grill\, great company and the opportunity to purchase your &quot\;we love our parade button&quot\; and this year&#39\;s poster. Join us in keeping our beloved parade marching forward. We look forward to seeing you there!!
LOCATION:Lagunitas Brewing Co.
UID:e.1308.14059
SEQUENCE:3
DTSTAMP:20260420T161347Z
URL:https://business.petalumachamber.biz/events/details/butter-egg-days-parade-button-launch-fundraiser-14059
END:VEVENT

END:VCALENDAR
