BEGIN:VCALENDAR
VERSION:2.0
PRODID:-//ChamberMaster//Event Calendar 2.0//EN
METHOD:PUBLISH
X-PUBLISHED-TTL:P3D
REFRESH-INTERVAL:P3D
CALSCALE:GREGORIAN
BEGIN:VEVENT
DTSTART:20190414T170000Z
DTEND:20190414T183000Z
X-MICROSOFT-CDO-ALLDAYEVENT:FALSE
SUMMARY:Celebrate the Morning
DESCRIPTION:Morning walks are such a wonderful way to be in your joy first thing in the morning. Celebrate the extraordinary in you as our group of local women keeps company while enjoying nature and mindful connection. Walk with us.
X-ALT-DESC;FMTTYPE=text/html:Morning walks are such a wonderful way to be in your joy first thing in the morning. Celebrate the extraordinary in you as our group of local women keeps company while enjoying nature and mindful connection. Walk with us.
LOCATION:Helen Putnam Park Petaluma
UID:e.1308.12957
SEQUENCE:3
DTSTAMP:20260419T210907Z
URL:https://business.petalumachamber.biz/events/details/celebrate-the-morning-04-14-2019-12957
END:VEVENT

END:VCALENDAR
