BEGIN:VCALENDAR
VERSION:2.0
PRODID:-//ChamberMaster//Event Calendar 2.0//EN
METHOD:PUBLISH
X-PUBLISHED-TTL:P3D
REFRESH-INTERVAL:P3D
CALSCALE:GREGORIAN
BEGIN:VEVENT
DTSTART:20190316T170000Z
DTEND:20190316T180000Z
X-MICROSOFT-CDO-ALLDAYEVENT:FALSE
SUMMARY:Celebrate the Morning
DESCRIPTION:The morning light has shifted. Embrace yourself and the transition of the earth in the beautiful morning softness keeping company with local women. Experience nature and connection as our group walks together in mindful quiet and conversation. A perfect way to start your day!
X-ALT-DESC;FMTTYPE=text/html:The morning light has shifted. Embrace yourself and the transition of the earth in the beautiful morning softness keeping company with local women. Experience nature and connection as our group walks together in mindful quiet and conversation. A perfect way to start your day!
LOCATION:Helen Putnam Park Petaluma
UID:e.1308.12950
SEQUENCE:3
DTSTAMP:20260419T194106Z
URL:https://business.petalumachamber.biz/events/details/celebrate-the-morning-12950
END:VEVENT

END:VCALENDAR
