BEGIN:VCALENDAR
VERSION:2.0
PRODID:-//ChamberMaster//Event Calendar 2.0//EN
METHOD:PUBLISH
X-PUBLISHED-TTL:P3D
REFRESH-INTERVAL:P3D
CALSCALE:GREGORIAN
BEGIN:VEVENT
DTSTART:20190216T180000Z
DTEND:20190216T190000Z
X-MICROSOFT-CDO-ALLDAYEVENT:FALSE
SUMMARY:Celebrate the Morning Group Walk
DESCRIPTION:Embrace the beautiful morning light with local women. Begin your day caring for yourself by experiencing nature and connection with our group as we walk together in mindful silence and conversation.
X-ALT-DESC;FMTTYPE=text/html:Embrace the beautiful morning light with local women. Begin your day caring for yourself by experiencing nature and connection with our group as we walk together in mindful silence and conversation.
LOCATION:Helen Putnam Park\, Petaluma
UID:e.1308.12924
SEQUENCE:3
DTSTAMP:20260419T175751Z
URL:https://business.petalumachamber.biz/events/details/celebrate-the-morning-group-walk-02-16-2019-12924
END:VEVENT

END:VCALENDAR
