BEGIN:VCALENDAR
VERSION:2.0
PRODID:-//ChamberMaster//Event Calendar 2.0//EN
METHOD:PUBLISH
X-PUBLISHED-TTL:P3D
REFRESH-INTERVAL:P3D
CALSCALE:GREGORIAN
BEGIN:VEVENT
DTSTART:20190119T180000Z
DTEND:20190119T190000Z
X-MICROSOFT-CDO-ALLDAYEVENT:FALSE
SUMMARY:Celebrate the Morning Group Walk
DESCRIPTION:Embrace the beautiful morning light with local women. Begin your day with self care by experiencing nature and connection as our group walks together in mindful silence and conversation.
X-ALT-DESC;FMTTYPE=text/html:Embrace the beautiful morning light with local women. Begin your day with self care by experiencing nature and connection as our group walks together in mindful silence and conversation.
LOCATION:Helen Putnam Park\, Petaluma
UID:e.1308.12905
SEQUENCE:3
DTSTAMP:20260419T161341Z
URL:https://business.petalumachamber.biz/events/details/celebrate-the-morning-group-walk-12905
END:VEVENT

END:VCALENDAR
