BEGIN:VCALENDAR
VERSION:2.0
PRODID:-//ChamberMaster//Event Calendar 2.0//EN
METHOD:PUBLISH
X-PUBLISHED-TTL:P3D
REFRESH-INTERVAL:P3D
CALSCALE:GREGORIAN
BEGIN:VEVENT
DTSTART:20181117T180000Z
DTEND:20181117T190000Z
X-MICROSOFT-CDO-ALLDAYEVENT:FALSE
SUMMARY:Celebrating the Morning - Group Walk
DESCRIPTION:Saturday\, November 17 10 am Helen Putnam Park We will embrace beautiful autumn morning light as we nourish ourselves by beginning the day at Helen Putnam Park\, Petaluma. Walks include silence and some mindful conversation. This is a special time for quiet\, listening to the earth and connecting with your beautiful self. Give yourself a gift. Greet\, gather and immerse into a combination of silence and conscious conversation. Fantastic! To Rsvp and more details: https://womenwalking.net/event/celebrating-the-morning-saturday-11-17
X-ALT-DESC;FMTTYPE=text/html:Saturday\, November 17 10 am Helen Putnam Park We will embrace beautiful autumn morning light as we nourish ourselves by beginning the day at Helen Putnam Park\, Petaluma. Walks include silence and some mindful conversation. This is a special time for quiet\, listening to the earth and connecting with your beautiful self. Give yourself a gift. Greet\, gather and immerse into a combination of silence and conscious conversation. Fantastic! To Rsvp and more details: https://womenwalking.net/event/celebrating-the-morning-saturday-11-17
LOCATION:Helen Putnam Park Petaluma
UID:e.1308.12822
SEQUENCE:3
DTSTAMP:20260419T130354Z
URL:https://business.petalumachamber.biz/events/details/celebrating-the-morning-group-walk-12822
END:VEVENT

END:VCALENDAR
