BEGIN:VCALENDAR
VERSION:2.0
PRODID:-//ChamberMaster//Event Calendar 2.0//EN
METHOD:PUBLISH
X-PUBLISHED-TTL:P3D
REFRESH-INTERVAL:P3D
CALSCALE:GREGORIAN
BEGIN:VEVENT
DTSTART;VALUE=DATE:20210828
DTEND;VALUE=DATE:20210829
TRANSP:TRANSPARENT
X-MICROSOFT-CDO-ALLDAYEVENT:TRUE
SUMMARY:Celebration on the Basin
DESCRIPTION:The Petaluma Turning Basin will become a sea of activity with water events including: Stand Up Paddleboard Races\, Non-Profit Kayak Races\, Kayak Polo and a Tug-of-War competition. The Celebration on the Basin festival is being held on Weller Street on the east side of the Petaluma River with entrances/exits onto D and Washington streets in downtown Petaluma. Live music performances by The Highway Poets\, Smokehouse Gamblers\, Randy & the Special Agents and Petaluma Pete will entertain you. Local nonprofits will be there to educate and entertain you with fun & games and small merchant/makers will be selling their wares.
X-ALT-DESC;FMTTYPE=text/html:The Petaluma Turning Basin will become a sea of activity with water events including: Stand Up Paddleboard Races\, Non-Profit Kayak Races\, Kayak Polo and a Tug-of-War competition. The Celebration on the Basin festival is being held on Weller Street on the east side of the Petaluma River with entrances/exits onto D and Washington streets in downtown Petaluma. Live music performances by The Highway Poets\, Smokehouse Gamblers\, Randy &amp\; the Special Agents and Petaluma Pete will entertain you. Local nonprofits will be there to educate and entertain you with fun &amp\; games and small merchant/makers will be selling their wares.
LOCATION:Weller Street \, Petaluma
UID:e.1308.16344
SEQUENCE:3
DTSTAMP:20260421T204503Z
URL:https://business.petalumachamber.biz/events/details/celebration-on-the-basin-16344
END:VEVENT

END:VCALENDAR
