BEGIN:VCALENDAR
VERSION:2.0
PRODID:-//ChamberMaster//Event Calendar 2.0//EN
METHOD:PUBLISH
X-PUBLISHED-TTL:P3D
REFRESH-INTERVAL:P3D
CALSCALE:GREGORIAN
BEGIN:VEVENT
DTSTART:20190215T193000Z
DTEND:20190215T210000Z
X-MICROSOFT-CDO-ALLDAYEVENT:FALSE
SUMMARY:Chamber Luncheon Series
DESCRIPTION:Join us in kicking off this year's Chamber Luncheon Series featuring the topic:\n\n\n\n"Shift your thinking to increase Impact and Profit"\n\nCome and join us\, in concert with the Purpose Financial + Insurance Services  & Conscious Capitalism Bay Area\, for an enlightening lunch around how to have more impact\, more profit\, and a higher sense of meaning and purpose in your work! These practical application tools that can be taken back to the office on Monday to move the needle and create lasting change that makes for long term profitability!\n\n\n\nCheck out our speaker list here: https://conta.cc/2DmPqwW
X-ALT-DESC;FMTTYPE=text/html:Join us in kicking off this year&#39\;s Chamber Luncheon Series featuring the topic:<br />\n<br />\n&quot\;<span style="font-family:calibri\,sans-serif\;"><span style="font-size:11.0pt\;">Shift your thinking to increase Impact and Profit</span></span>&quot\;<br />\nCome and join us\, in concert with the Purpose Financial + Insurance Services &nbsp\;&amp\; Conscious Capitalism Bay Area\, for an enlightening lunch around how to have more impact\, more profit\, and a higher sense of meaning and purpose in your work! These practical application tools that can be taken back to the office on Monday to move the needle and create lasting change that makes for long term profitability!<br />\n<br />\nCheck out our speaker list here:&nbsp\;<a class="details-permalink-url trackable" data-qe-id="email-short-url" data-tracked-action="view email url" href="https://conta.cc/2DmPqwW" style="text-decoration-line: none\; box-sizing: border-box\; background-image: initial\; background-position: 0px 0px\; background-size: initial\; background-repeat: initial\; background-attachment: initial\; background-origin: initial\; background-clip: initial\; color: rgb(13\, 118\, 193)\; outline: 0px\; font-family: &quot\;Whitney SSm A&quot\;\, &quot\;Whitney SSm B&quot\;\, &quot\;Helvetica Neue&quot\;\, Arial\, sans-serif\; font-size: 16px\;" target="_blank">https://conta.cc/2DmPqwW</a><br />\n<br />\n&nbsp\;
LOCATION:Rooster Run Event Center 2301 E Washington Petaluma
UID:e.1308.12895
SEQUENCE:3
DTSTAMP:20260419T180815Z
URL:https://business.petalumachamber.biz/events/details/chamber-luncheon-series-12895
END:VEVENT

END:VCALENDAR
