BEGIN:VCALENDAR
VERSION:2.0
PRODID:-//ChamberMaster//Event Calendar 2.0//EN
METHOD:PUBLISH
X-PUBLISHED-TTL:P3D
REFRESH-INTERVAL:P3D
CALSCALE:GREGORIAN
BEGIN:VEVENT
DTSTART:20190426T183000Z
DTEND:20190426T200000Z
X-MICROSOFT-CDO-ALLDAYEVENT:FALSE
SUMMARY:Chamber Luncheon Series
DESCRIPTION:Join us at our continuing Chamber Luncheon Series featuring Police Chief Ken Savano as he presents: "Petaluma Police Update: "Current Challenges Impacting Crime and Traffic Safety in Petaluma"
X-ALT-DESC;FMTTYPE=text/html:Join us at our continuing Chamber Luncheon Series featuring Police Chief Ken Savano as he presents: &quot\;Petaluma Police Update: <span style="color: rgb(29\, 33\, 41)\; font-family: Helvetica\, Arial\, sans-serif\; font-size: 14px\; white-space: pre-wrap\;">&quot\;Current Challenges Impacting Crime and Traffic Safety in Petaluma&quot\;</span>
LOCATION:Rooster Run Event Center 2301 E Washington Petaluma
UID:e.1308.12920
SEQUENCE:3
DTSTAMP:20260419T210728Z
URL:https://business.petalumachamber.biz/events/details/chamber-luncheon-series-12920
END:VEVENT

END:VCALENDAR
