BEGIN:VCALENDAR
VERSION:2.0
PRODID:-//ChamberMaster//Event Calendar 2.0//EN
METHOD:PUBLISH
X-PUBLISHED-TTL:P3D
REFRESH-INTERVAL:P3D
CALSCALE:GREGORIAN
BEGIN:VEVENT
DTSTART:20190621T183000Z
DTEND:20190621T200000Z
X-MICROSOFT-CDO-ALLDAYEVENT:FALSE
SUMMARY:Chamber Luncheon Series
DESCRIPTION:Join us for our next installment of our Chamber Luncheon Series\, featuring our Mayor Teresa Barrett and our City Manager Peggy Flynn for a Q+A!
X-ALT-DESC;FMTTYPE=text/html:Join us for our next installment of our Chamber Luncheon Series\, featuring our Mayor Teresa Barrett and our City Manager Peggy Flynn for a Q+A!
LOCATION:Cattlemens 5012 Petaluma Blvd N
UID:e.1308.13480
SEQUENCE:3
DTSTAMP:20260420T004243Z
URL:https://business.petalumachamber.biz/events/details/chamber-luncheon-series-13480
END:VEVENT

END:VCALENDAR
