BEGIN:VCALENDAR
VERSION:2.0
PRODID:-//ChamberMaster//Event Calendar 2.0//EN
METHOD:PUBLISH
X-PUBLISHED-TTL:P3D
REFRESH-INTERVAL:P3D
CALSCALE:GREGORIAN
BEGIN:VEVENT
DTSTART:20200228T193000Z
DTEND:20200228T210000Z
X-MICROSOFT-CDO-ALLDAYEVENT:FALSE
SUMMARY:Chamber Luncheon Series: The State of Our City
DESCRIPTION:Join us for our first Chamber Luncheon Series of 2020\, at Rooster Run Event Center with Mayor Teresa Barrett and City Manager Peggy Flynn as they deliver the "State of Our City\, Petaluma"
X-ALT-DESC;FMTTYPE=text/html:<span style="color: rgb(0\, 0\, 0)\; font-family: Georgia\, &quot\;Times New Roman&quot\;\, Times\, serif\; font-size: 16px\; white-space: pre-wrap\;">Join us for our first Chamber Luncheon Series of 2020\, at Rooster Run Event Center with Mayor Teresa Barrett and City Manager Peggy Flynn as they deliver the &ldquo\;State of Our City\, Petaluma&rdquo\;</span>
LOCATION:Rooster Run Event Center 2301 E Washington Street Petaluma
UID:e.1308.13975
SEQUENCE:3
DTSTAMP:20260420T144313Z
URL:https://business.petalumachamber.biz/events/details/chamber-luncheon-series-the-state-of-our-city-13975
END:VEVENT

END:VCALENDAR
