BEGIN:VCALENDAR
VERSION:2.0
PRODID:-//ChamberMaster//Event Calendar 2.0//EN
METHOD:PUBLISH
X-PUBLISHED-TTL:P3D
REFRESH-INTERVAL:P3D
CALSCALE:GREGORIAN
BEGIN:VEVENT
DTSTART:20191206T193000Z
DTEND:20191206T213000Z
X-MICROSOFT-CDO-ALLDAYEVENT:FALSE
SUMMARY:Chamber Luncheon Series: Trash Talk
DESCRIPTION:CANCELLED\n\n\n\nThe Petaluma Area Chamber of Commerce \n\nPresents:Trash Talk!\n\nWith panel\n\nLisa Moore of Recology\n\nPatrick Carter of the City of Petaluma\n\nLeland Fishman of Fishman Supply\n\nSheila Bride of Petaluma Coffee & Tea\n\n \n\n Hear from some of the leaders in Petaluma on the topic of working on keeping our city green and environmentally friendly!\n\n \n\nSalad bar for lunch provided by Rosen's 256 North Restaurant!\n\n\n\nREGISTRATION DUE BY NOVEMBER 25th!
X-ALT-DESC;FMTTYPE=text/html:<span style="font-size:36px\;"><strong><em><span style="color:red\;">CANCELLED</span></em></strong></span><br />\n<br />\n<span style="font-size:14px\;"><span style="font-family:arial\;"><span style="font-weight:bold\;language:en-US\;">The Petaluma Area Chamber of Commerce </span><br />\n<span style="font-weight:bold\;language:en-US\;">Presents:</span><span style="font-style:italic\;font-weight:bold\;language:en-US\;">Trash Talk!</span><br />\n<span style="font-weight:bold\;language:en-US\;">With panel</span><br />\n<span style="font-weight:bold\;language:en-US\;">Lisa Moore of Recology</span><br />\n<span style="font-weight:bold\;language:en-US\;">Patrick Carter of the City of Petaluma</span><br />\n<span style="font-weight:bold\;language:en-US\;">Leland Fishman of Fishman Supply</span><br />\n<span style="font-weight:bold\;language:en-US\;">Sheila Bride of Petaluma Coffee &amp\; Tea</span><br />\n&nbsp\;<br />\n&nbsp\;<span style="font-weight:bold\;language:en-US\;">Hear from some of the leaders in Petaluma on the topic of working on keeping our city green and environmentally friendly!</span></span></span><br />\n&nbsp\;<br />\n<span style="font-size:14px\;"><span style="font-family:arial\;">Salad bar for lunch provided by Rosen&#39\;s 256 North Restaurant!<br />\n<br />\nREGISTRATION DUE BY NOVEMBER 25th!</span></span><br />\n&nbsp\;
LOCATION:Rosens 256 North 256 N Petaluma Blvd N
UID:e.1308.13958
SEQUENCE:3
DTSTAMP:20260420T112240Z
URL:https://business.petalumachamber.biz/events/details/chamber-luncheon-series-trash-talk-13958
END:VEVENT

END:VCALENDAR
