BEGIN:VCALENDAR
VERSION:2.0
PRODID:-//ChamberMaster//Event Calendar 2.0//EN
METHOD:PUBLISH
X-PUBLISHED-TTL:P3D
REFRESH-INTERVAL:P3D
CALSCALE:GREGORIAN
BEGIN:VEVENT
DTSTART:20181214T010000Z
DTEND:20181214T030000Z
X-MICROSOFT-CDO-ALLDAYEVENT:FALSE
SUMMARY:Champagne Tasting Happy Hour
DESCRIPTION:Join us Thursday\, Dec 13 evening from 5-7 pm! Enjoy music\, champagne tastings by Lelarge-Pugeot and fun with Petaluma's HIPPEST coworkers. Bring a friend or two and celebrate this festive season with us! Free kid care on site so don't let that be an excuse not to show!
X-ALT-DESC;FMTTYPE=text/html:<span style="color:rgb(32\, 33\, 36)\; font-family:roboto\,arial\,sans-serif\; font-size:16px">Join us Thursday\, Dec 13 evening from 5-7 pm! Enjoy music\, champagne tastings by <strong>Lelarge-Pugeot</strong> and fun with Petaluma&#39\;s HIPPEST coworkers.&nbsp\;Bring a friend or two and celebrate this festive season with us! Free kid care on site so don&#39\;t let that be an excuse not to show!</span>
LOCATION:Keller Street CoWork 140 Keller Street\, Petaluma\, CA\, 94952
UID:e.1308.12884
SEQUENCE:3
DTSTAMP:20260419T143600Z
URL:https://business.petalumachamber.biz/events/details/champagne-tasting-happy-hour-12884
END:VEVENT

END:VCALENDAR
