BEGIN:VCALENDAR
VERSION:2.0
PRODID:-//ChamberMaster//Event Calendar 2.0//EN
METHOD:PUBLISH
X-PUBLISHED-TTL:P3D
REFRESH-INTERVAL:P3D
CALSCALE:GREGORIAN
BEGIN:VEVENT
DTSTART:20181203T003000Z
DTEND:20181203T020000Z
X-MICROSOFT-CDO-ALLDAYEVENT:FALSE
SUMMARY:Chanukah at the River & Great Chanukah Gelt Drop
DESCRIPTION:?The festival of Chanukah teaches us about the power of light over darkness and right over might. LET'S CELEBRATE TOGETHER! An event for the entire community. Join us for the fourth annual Grand Menorah Lighting at the Petaluma River! ? Mega-Nine-Foot Menorah ? NEW! The Great Chanukah Gelt Drop! ? Spectacular Fire and Glow Juggling Act with "The Spin Zone"! ? Latkes\, Donuts\, and Chocolate "Gelt" ? Chanukah Craft\, Music\, Grand Raffle ? Face Painting ? Photo-op with Life-Sized Dreidel ? Special Chanukah Giveaway for first 50 Kids! Sunday\, December 2\, 4:30-6:00pm FREE with RSVP: www.JewishPetaluma.com/River
X-ALT-DESC;FMTTYPE=text/html:?The festival of Chanukah teaches us about the power of light over darkness and right over might. LET&#39\;S CELEBRATE TOGETHER! An event for the entire community. Join us for the fourth annual Grand Menorah Lighting at the Petaluma River! ? Mega-Nine-Foot Menorah ? NEW! The Great Chanukah Gelt Drop! ? Spectacular Fire and Glow Juggling Act with &quot\;The Spin Zone&quot\;! ? Latkes\, Donuts\, and Chocolate &quot\;Gelt&quot\; ? Chanukah Craft\, Music\, Grand Raffle ? Face Painting ? Photo-op with Life-Sized Dreidel ? Special Chanukah Giveaway for first 50 Kids! Sunday\, December 2\, 4:30-6:00pm FREE with RSVP: www.JewishPetaluma.com/River
LOCATION:Water Street Promenade 100 Petaluma Blvd N Petaluma\, CA 94952
UID:e.1308.12844
SEQUENCE:3
DTSTAMP:20260419T143736Z
URL:https://business.petalumachamber.biz/events/details/chanukah-at-the-river-great-chanukah-gelt-drop-12844
END:VEVENT

END:VCALENDAR
