BEGIN:VCALENDAR
VERSION:2.0
PRODID:-//ChamberMaster//Event Calendar 2.0//EN
METHOD:PUBLISH
X-PUBLISHED-TTL:P3D
REFRESH-INTERVAL:P3D
CALSCALE:GREGORIAN
BEGIN:VEVENT
DTSTART:20181124T170000Z
DTEND:20181125T013000Z
X-MICROSOFT-CDO-ALLDAYEVENT:FALSE
SUMMARY:Claire Dobson - Mini Holiday Photo Sessions
DESCRIPTION:Come Join us November 24th \n\n\n\nCheck that holiday card photo off your list! \n\n\n\nClaire Dobson and Keller Street CoWork have teamed up to offer a 30-minute mini session in our professional photo studio. Capture a fun\, card-ready photo of you\, your family\, your pet...let's get creative! \n\n\n\nSchedule your 30-minute mini session in the Keller Street CoWork professional photo studio. Save your space while you can!!!\n\n\n\nSign Up Link: https://clairedobson.lpages.co/holiday-mini-sessions/
X-ALT-DESC;FMTTYPE=text/html:<span style="color:rgb(32\, 33\, 36)\; font-family:roboto\,arial\,sans-serif\; font-size:16px">Come Join us November 24th </span><br />\n<br />\n<span style="color:rgb(32\, 33\, 36)\; font-family:roboto\,arial\,sans-serif\; font-size:16px">Check that holiday card photo off your list! </span><br />\n<br />\n<span style="color:rgb(32\, 33\, 36)\; font-family:roboto\,arial\,sans-serif\; font-size:16px">Claire Dobson and Keller Street CoWork have teamed up to offer a 30-minute mini session in our professional photo studio. Capture a fun\, card-ready photo of you\, your family\, your pet...let&rsquo\;s get creative! </span><br />\n<br />\n<span style="color:rgb(32\, 33\, 36)\; font-family:roboto\,arial\,sans-serif\; font-size:16px">Schedule your 30-minute mini session in the Keller Street CoWork professional photo studio. Save your space while you can!!!<br />\n<br />\nSign Up Link:&nbsp\;</span><a href="https://clairedobson.lpages.co/holiday-mini-sessions/" rel="nofollow" style="color: rgb(102\, 17\, 204)\; pointer-events: none\; font-family: Roboto\, Arial\, sans-serif\; font-size: 16px\; font-variant-ligatures: none\; letter-spacing: 0.1px\; white-space: pre-wrap\;" target="_blank">https://clairedobson.lpages.co/holiday-mini-sessions/</a>
LOCATION:Keller Street CoWork 140 Keller Street Petaluma\, CA 94952
UID:e.1308.12842
SEQUENCE:3
DTSTAMP:20260419T130557Z
URL:https://business.petalumachamber.biz/events/details/claire-dobson-mini-holiday-photo-sessions-12842
END:VEVENT

END:VCALENDAR
