BEGIN:VCALENDAR
VERSION:2.0
PRODID:-//ChamberMaster//Event Calendar 2.0//EN
METHOD:PUBLISH
X-PUBLISHED-TTL:P3D
REFRESH-INTERVAL:P3D
CALSCALE:GREGORIAN
BEGIN:VEVENT
DTSTART:20190721T000000Z
DTEND:20190826T000000Z
X-MICROSOFT-CDO-ALLDAYEVENT:FALSE
SUMMARY:Clay & Glass Redux
DESCRIPTION:Blurring the lines between craft and fine art\, this exhibit brings focus to the endless possibilities of clay and glass as creative media. Artists combine ancient techniques and high tech knowledge\, they are storytellers and futurists that show us how to look close and also think big.
X-ALT-DESC;FMTTYPE=text/html:Blurring the lines between craft and fine art\, this exhibit brings focus to the endless possibilities of clay and glass as creative media. Artists combine ancient techniques and high tech knowledge\, they are storytellers and futurists that show us how to look close and also think big.
LOCATION:Healdsburg Center for the Arts 130 Plaza Street Healdsburg
UID:e.1308.13758
SEQUENCE:3
DTSTAMP:20260420T023246Z
URL:https://business.petalumachamber.biz/events/details/clay-glass-redux-13758
END:VEVENT

END:VCALENDAR
