BEGIN:VCALENDAR
VERSION:2.0
PRODID:-//ChamberMaster//Event Calendar 2.0//EN
METHOD:PUBLISH
X-PUBLISHED-TTL:P3D
REFRESH-INTERVAL:P3D
CALSCALE:GREGORIAN
BEGIN:VEVENT
DTSTART:20190511T210000Z
DTEND:20190511T220000Z
X-MICROSOFT-CDO-ALLDAYEVENT:FALSE
SUMMARY:Climate Change: What Do We Do?
DESCRIPTION:Presentation by Dr. Claudia Luke\, Director of Sonoma State's Center for Environmental Inquiry Dr. Luke will talk about environmental challenges resulting from climate change and steps we can take to solve them. Her talk will focus on SSU students and the community working together to find new solutions.
X-ALT-DESC;FMTTYPE=text/html:Presentation by Dr. Claudia Luke\, Director of Sonoma State&rsquo\;s Center for Environmental Inquiry Dr. Luke will talk about environmental challenges resulting from climate change and steps we can take to solve them. Her talk will focus on SSU students and the community working together to find new solutions.
LOCATION:Healdsburg Center for the Arts
UID:e.1308.13610
SEQUENCE:3
DTSTAMP:20260419T225812Z
URL:https://business.petalumachamber.biz/events/details/climate-change-what-do-we-do-13610
END:VEVENT

END:VCALENDAR
