BEGIN:VCALENDAR
VERSION:2.0
PRODID:-//ChamberMaster//Event Calendar 2.0//EN
METHOD:PUBLISH
X-PUBLISHED-TTL:P3D
REFRESH-INTERVAL:P3D
CALSCALE:GREGORIAN
BEGIN:VEVENT
DTSTART;VALUE=DATE:20190704
DTEND;VALUE=DATE:20190706
TRANSP:TRANSPARENT
X-MICROSOFT-CDO-ALLDAYEVENT:TRUE
SUMMARY:Closed for Holiday
DESCRIPTION:In honor of the Independence Day Holiday\, The Petaluma Area Chamber of Commerce offices are closed the 4th and 5th.  We will resume normal business hours Monday\, 9a-4p.
X-ALT-DESC;FMTTYPE=text/html:In honor of the Independence Day Holiday\, The Petaluma Area Chamber of Commerce offices are closed the 4th and 5th.&nbsp\; We will resume normal business hours Monday\, 9a-4p.
LOCATION:
UID:e.1308.12896
SEQUENCE:3
DTSTAMP:20260420T023145Z
URL:https://business.petalumachamber.biz/events/details/closed-for-holiday-12896
END:VEVENT

END:VCALENDAR
