BEGIN:VCALENDAR
VERSION:2.0
PRODID:-//ChamberMaster//Event Calendar 2.0//EN
METHOD:PUBLISH
X-PUBLISHED-TTL:P3D
REFRESH-INTERVAL:P3D
CALSCALE:GREGORIAN
BEGIN:VEVENT
DTSTART;VALUE=DATE:20191223
DTEND;VALUE=DATE:20200102
TRANSP:TRANSPARENT
X-MICROSOFT-CDO-ALLDAYEVENT:TRUE
SUMMARY:Closed for Holiday
DESCRIPTION:In honor of the Christmas Holiday\, The Petaluma Area Chamber of Commerce offices are closed until January 2nd.
X-ALT-DESC;FMTTYPE=text/html:In honor of the Christmas Holiday\, The Petaluma Area Chamber of Commerce offices are closed until January 2nd.&nbsp\;&nbsp\;
LOCATION:
UID:e.1308.12901
SEQUENCE:3
DTSTAMP:20260420T112152Z
URL:https://business.petalumachamber.biz/events/details/closed-for-holiday-12901
END:VEVENT

END:VCALENDAR
