BEGIN:VCALENDAR
VERSION:2.0
PRODID:-//ChamberMaster//Event Calendar 2.0//EN
METHOD:PUBLISH
X-PUBLISHED-TTL:P3D
REFRESH-INTERVAL:P3D
CALSCALE:GREGORIAN
BEGIN:VEVENT
DTSTART;VALUE=DATE:20191004
DTEND;VALUE=DATE:20191005
TRANSP:TRANSPARENT
X-MICROSOFT-CDO-ALLDAYEVENT:TRUE
SUMMARY:Closed for Staff Retreat
DESCRIPTION:The Petaluma Area Chamber of Commerce offices are closed today for a staff retreat.  We will resume normal business hours Monday\, 9a-4p.
X-ALT-DESC;FMTTYPE=text/html:The Petaluma Area Chamber of Commerce offices are closed today for a staff retreat.&nbsp\; We will resume normal business hours Monday\, 9a-4p.&nbsp\;
LOCATION:
UID:e.1308.12902
SEQUENCE:3
DTSTAMP:20260420T093825Z
URL:https://business.petalumachamber.biz/events/details/closed-for-staff-retreat-12902
END:VEVENT

END:VCALENDAR
