BEGIN:VCALENDAR
VERSION:2.0
PRODID:-//ChamberMaster//Event Calendar 2.0//EN
METHOD:PUBLISH
X-PUBLISHED-TTL:P3D
REFRESH-INTERVAL:P3D
CALSCALE:GREGORIAN
BEGIN:VEVENT
DTSTART:20190419T003000Z
DTEND:20190419T023000Z
X-MICROSOFT-CDO-ALLDAYEVENT:FALSE
SUMMARY:Community Awards of Excellence
DESCRIPTION:Join us in celebrating these amazing people and businesses that make our community such a wonderful place to live and work!\n\n\n\nTickets to the event are $25.00 and ALL TICKET SALES ARE FINAL.\n\nSee here for details and check for updates: http://www.petalumachamber.com/Comm_Community_Awards_New.asp
X-ALT-DESC;FMTTYPE=text/html:Join us in celebrating these amazing people and businesses that make our community such a wonderful place to live and work!<br />\n<br />\nTickets to the event are $25.00 and ALL TICKET SALES ARE FINAL.<br />\nSee here for details and check for updates:&nbsp\;http://www.petalumachamber.com/Comm_Community_Awards_New.asp&nbsp\;
LOCATION:Rooster Run Event Center 2301 East Washington Street\, Petaluma
UID:e.1308.12891
SEQUENCE:3
DTSTAMP:20260419T210812Z
URL:https://business.petalumachamber.biz/events/details/community-awards-of-excellence-12891
END:VEVENT

END:VCALENDAR
