BEGIN:VCALENDAR
VERSION:2.0
PRODID:-//ChamberMaster//Event Calendar 2.0//EN
METHOD:PUBLISH
X-PUBLISHED-TTL:P3D
REFRESH-INTERVAL:P3D
CALSCALE:GREGORIAN
BEGIN:VEVENT
DTSTART;VALUE=DATE:20201218
DTEND;VALUE=DATE:20201219
TRANSP:TRANSPARENT
X-MICROSOFT-CDO-ALLDAYEVENT:TRUE
SUMMARY:Community Covid Testing for the Holidays
DESCRIPTION:Drive-thru Covid Testing for the Holidays\n\nFriday\, December 18\, 2020\n\n9am - 4pm\n\nRegistration: https://www.Petaluma Dental Group.com /register\n\nDrop ins welcome.
X-ALT-DESC;FMTTYPE=text/html:<strong><span style="font-size:14px">Drive-thru Covid Testing for the Holidays</span><br />\nFriday\, December 18\, 2020<br />\n9am - 4pm<br />\nRegistration: <a href="https://petalumadental.com/register">https://www.Petaluma Dental Group.com /register</a><br />\nDrop ins welcome.</strong>
LOCATION:Petaluma Dental Group 1301 Southpoint Blvd Petaluma\, CA 94954
UID:e.1308.14121
SEQUENCE:3
DTSTAMP:20260421T071344Z
URL:https://business.petalumachamber.biz/events/details/community-covid-testing-for-the-holidays-14121
END:VEVENT

END:VCALENDAR
