BEGIN:VCALENDAR
VERSION:2.0
PRODID:-//ChamberMaster//Event Calendar 2.0//EN
METHOD:PUBLISH
X-PUBLISHED-TTL:P3D
REFRESH-INTERVAL:P3D
CALSCALE:GREGORIAN
BEGIN:VEVENT
DTSTART:20191115T010000Z
DTEND:20191115T030000Z
X-MICROSOFT-CDO-ALLDAYEVENT:FALSE
SUMMARY:Community Happy Hour
DESCRIPTION:Last Happy Hour before the holidays! Bring a friend and enjoy music\, drinks\, bites\, and community.
X-ALT-DESC;FMTTYPE=text/html:Last Happy Hour before the holidays! Bring a friend and enjoy music\, drinks\, bites\, and community.
LOCATION:Keller Street CoWork 140 Keller St Petaluma\, CA
UID:e.1308.13962
SEQUENCE:3
DTSTAMP:20260420T093653Z
URL:https://business.petalumachamber.biz/events/details/community-happy-hour-13962
END:VEVENT

END:VCALENDAR
