BEGIN:VCALENDAR
VERSION:2.0
PRODID:-//ChamberMaster//Event Calendar 2.0//EN
METHOD:PUBLISH
X-PUBLISHED-TTL:P3D
REFRESH-INTERVAL:P3D
CALSCALE:GREGORIAN
BEGIN:VEVENT
DTSTART:20220324T200000Z
DTEND:20220324T213000Z
X-MICROSOFT-CDO-ALLDAYEVENT:FALSE
SUMMARY:Cool City Challenge
DESCRIPTION:Cool City Challenge\n\nThursday\, March 24\, 1:00   2:30 pm\, on Zoom.       \n\nThe Cool City Challenge awarded grants of $1 million to three cities for 2022: Petaluma\, Los Angeles\, and Irvine. We will be involved in creating the template for 50 cities to receive similar grants in 2023. We hope to set the example for the world! Cool Petaluma is our chosen name for our grassroots effort focused on building up our social networks to help neighborhoods become more planet-friendly\, disaster-resilient\, and community-rich. We are seeking volunteer block captains to help improve our quality of life and empower neighbors to take action together\, including pushing for necessary governmental actions. Open to the public\,\n\n\n\nPresenter Dennis Pocekay\, a retired physician\, is vice mayor on the Petaluma City Council and member of the Cool City Challenge Steering Committee.\n\n \n\nPlease register for this presentation online by clicking here\, email us at info@VillageNetworkofPetaluma.org\, or call the Village office at 707-776-6055. The event is free\, donations appreciated.\n\n \n\nAbout Village Network of Petaluma\n\nThe Village Network is a non-profit grassroots organization empowering Petaluma-Penngrove area residents age 50+ to live independent\, vibrant and connected lives in the places we call home. Aging Better Together.\n\nFor more information:\n\nPhone: 707 776-6055\n\nWebsite: http://www.VillageNetworkofPetaluma.org\n\nEmail: info@villagenetworkofpetaluma.org
X-ALT-DESC;FMTTYPE=text/html:<span style="font-size:14px"><span style="font-family:arial\,helvetica\,sans-serif"><strong><span style="color:darkgreen">Cool City Challenge</span></strong><br />\n<strong><span style="color:black">Thursday\, March 24\, 1:00 &ndash\; 2:30 pm\, on Zoom.&nbsp\;&nbsp\;&nbsp\;&nbsp\;&nbsp\;&nbsp\; </span></strong><br />\n<span style="color:black">The&nbsp\;Cool City Challenge&nbsp\;awarded grants of $1 million to three cities for 2022: Petaluma\, Los Angeles\, and Irvine. We will be involved in creating the template for 50 cities to receive similar grants in 2023. We hope to set the example for the world! <em>Cool Petaluma</em></span>&nbsp\;is our chosen name for our grassroots effort focused on building up our social networks to help neighborhoods become more planet-friendly\, disaster-resilient\, and community-rich. We are seeking volunteer block captains to help improve our quality of life and empower neighbors to take action together\, including pushing for necessary governmental actions. Open to the public\,<br />\n<br />\n<em><span style="color:black">Presenter Dennis Pocekay\, a retired physician\, is vice mayor on the Petaluma City Council and member of the Cool City Challenge Steering Committee.</span></em><br />\n&nbsp\;<br />\nPlease register for this presentation online by clicking <a href="https://petaluma.helpfulvillage.com/events/1590"><span style="color:#0070C0">here</span></a>\, email us at <a href="mailto:info@VillageNetworkofPetaluma.org">info@VillageNetworkofPetaluma.org</a>\, or call the Village office at 707-776-6055. The event is free\, donations appreciated.<br />\n&nbsp\;<br />\n<strong>About Village Network of Petaluma</strong><br />\nThe Village Network is a non-profit grassroots organization empowering Petaluma-Penngrove area residents age 50+ to live independent\, vibrant and connected lives in the places we call home. Aging Better Together.<br />\nFor more information:<br />\nPhone: 707 776-6055<br />\nWebsite: <a href="http://www.VillageNetworkofPetaluma.org">http://www.VillageNetworkofPetaluma.org</a><br />\nEmail: <a href="mailto:info@villagenetworkofpetaluma.org">info@villagenetworkofpetaluma.org</a></span></span><br />\n&nbsp\;
LOCATION:
UID:e.1308.16395
SEQUENCE:3
DTSTAMP:20260422T082551Z
URL:https://business.petalumachamber.biz/events/details/cool-city-challenge-16395
END:VEVENT

END:VCALENDAR
