BEGIN:VCALENDAR
VERSION:2.0
PRODID:-//ChamberMaster//Event Calendar 2.0//EN
METHOD:PUBLISH
X-PUBLISHED-TTL:P3D
REFRESH-INTERVAL:P3D
CALSCALE:GREGORIAN
BEGIN:VEVENT
DTSTART:20181102T130000Z
DTEND:20181102T170000Z
X-MICROSOFT-CDO-ALLDAYEVENT:FALSE
SUMMARY:Cop on a Rooftop Event comes to Dunkin’ locations in NorCal
DESCRIPTION:For the first time in Northern California\, law enforcement officers throughout the Bay will stake out participating Dunkin' rooftops to support Special Olympics Northern California! Between 6 a.m. and 10 a.m. on Friday\, November 2\, each guest who visits a Cop on a Rooftop Dunkin' location and makes a donation of any amount will receive a FREE medium hot or iced coffee coupon. Officers will cover more than 10 Dunkin' rooftops in Northern California in addition to the 19 Southern California Dunkin' locations to raise awareness and donations for Special Olympics. Participating Locations:   South San Francisco: 180 S Airport Blvd\, South San Francisco\, CA 94080   Half Moon Bay: 118 San Mateo Rd\, Half Moon Bay\, CA 94019   Fremont: 5255 Mowry Ave\, Fremont\, CA 94538   San Jose: 5519 Snell Ave\, San Jose\, CA 95123   Petaluma: 435 N McDowell Blvd Suite 50\, Petaluma\, CA 94954   Modesto: 1300 Stanford Ave\, Modesto\, CA 95350   Roseville: 5010 Foothills Blvd\, Roseville\, CA 95747   Folsom: 9601 Greenback Ln\, Folsom\, CA 95630   American Canyon: 410 Napa Junction Rd #100\, American Canyon\, CA 94503   San Carlos: 240 El Camino Real\, San Carlos\, CA 9407 To learn more about the Cop on a Rooftop program\, visit www.DunkinDonuts.com or follow us on Facebook (www.facebook.com/DunkinDonuts) and Twitter (@DunkinNorCal).
X-ALT-DESC;FMTTYPE=text/html:For the first time in Northern California\, law enforcement officers throughout the Bay will stake out participating Dunkin&rsquo\; rooftops to support Special Olympics Northern California! Between 6 a.m. and 10 a.m. on Friday\, November 2\, each guest who visits a Cop on a Rooftop Dunkin&rsquo\; location and makes a donation of any amount will receive a FREE medium hot or iced coffee coupon. Officers will cover more than 10 Dunkin&rsquo\; rooftops in Northern California in addition to the 19 Southern California Dunkin&rsquo\; locations to raise awareness and donations for Special Olympics. Participating Locations: &bull\; South San Francisco: 180 S Airport Blvd\, South San Francisco\, CA 94080 &bull\; Half Moon Bay: 118 San Mateo Rd\, Half Moon Bay\, CA 94019 &bull\; Fremont: 5255 Mowry Ave\, Fremont\, CA 94538 &bull\; San Jose: 5519 Snell Ave\, San Jose\, CA 95123 &bull\; Petaluma: 435 N McDowell Blvd Suite 50\, Petaluma\, CA 94954 &bull\; Modesto: 1300 Stanford Ave\, Modesto\, CA 95350 &bull\; Roseville: 5010 Foothills Blvd\, Roseville\, CA 95747 &bull\; Folsom: 9601 Greenback Ln\, Folsom\, CA 95630 &bull\; American Canyon: 410 Napa Junction Rd #100\, American Canyon\, CA 94503 &bull\; San Carlos: 240 El Camino Real\, San Carlos\, CA 9407 To learn more about the Cop on a Rooftop program\, visit www.DunkinDonuts.com or follow us on Facebook (www.facebook.com/DunkinDonuts) and Twitter (@DunkinNorCal).
LOCATION:435 N McDowell Blvd Suite 50\, Petaluma\, CA 94954
UID:e.1308.12820
SEQUENCE:3
DTSTAMP:20260419T130633Z
URL:https://business.petalumachamber.biz/events/details/cop-on-a-rooftop-event-comes-to-dunkin-locations-in-norcal-12820
END:VEVENT

END:VCALENDAR
