BEGIN:VCALENDAR
VERSION:2.0
PRODID:-//ChamberMaster//Event Calendar 2.0//EN
METHOD:PUBLISH
X-PUBLISHED-TTL:P3D
REFRESH-INTERVAL:P3D
CALSCALE:GREGORIAN
BEGIN:VEVENT
DTSTART:20200314T230000Z
DTEND:20200315T020000Z
X-MICROSOFT-CDO-ALLDAYEVENT:FALSE
SUMMARY:Corned Beef & Cabbage Benefit
DESCRIPTION:Penngrove Social Firemen present Corned Beef and Cabbage Feed Served 4:00 p.m.   7:00 p.m. Featuring corned beef and cabbage and beverages. Meat is provided by Bud's Meats. Dessert will be sold by the Penngrove 4-H. A Pot-O-Gold drawing offers prizes of Visa gift cards of $200\, $100\, and $50. All proceeds help maintain Community Clubhouse and Penngrove Park\, for the benefit of our community. Tickets will be sold at the door. For info see www.penngrovesocialfiremen.org at the Penngrove Community Clubhouse. We are a 501 c 3 385 Woodward Ave.\, Penngrove CA - Corner of Oak St. and Woodward. Cost: Adults $15.00\, Children under 12\, $8.00
X-ALT-DESC;FMTTYPE=text/html:Penngrove Social Firemen present Corned Beef and Cabbage Feed Served 4:00 p.m. &ndash\; 7:00 p.m. Featuring corned beef and cabbage and beverages. Meat is provided by Bud&rsquo\;s Meats. Dessert will be sold by the Penngrove 4-H. A Pot-O-Gold drawing offers prizes of Visa gift cards of $200\, $100\, and $50. All proceeds help maintain Community Clubhouse and Penngrove Park\, for the benefit of our community. Tickets will be sold at the door. For info see www.penngrovesocialfiremen.org at the Penngrove Community Clubhouse. We are a 501 c 3 385 Woodward Ave.\, Penngrove CA - Corner of Oak St. and Woodward. Cost: Adults $15.00\, Children under 12\, $8.00
LOCATION:Penngrove Community Clubhouse\, 385 Woodward Ave. (at Oak St.)\, Penngrove
UID:e.1308.14063
SEQUENCE:3
DTSTAMP:20260420T160551Z
URL:https://business.petalumachamber.biz/events/details/corned-beef-cabbage-benefit-14063
END:VEVENT

END:VCALENDAR
