BEGIN:VCALENDAR
VERSION:2.0
PRODID:-//ChamberMaster//Event Calendar 2.0//EN
METHOD:PUBLISH
X-PUBLISHED-TTL:P3D
REFRESH-INTERVAL:P3D
CALSCALE:GREGORIAN
BEGIN:VEVENT
DTSTART:20201203T160000Z
DTEND:20201203T170000Z
X-MICROSOFT-CDO-ALLDAYEVENT:FALSE
SUMMARY:COTS Hour at Home
DESCRIPTION:The COTS Hour is going virtual! Join us for the annual COTS Hours at Home to learn more about the impact COTS has on our community and the work we do to end homelessness. You can view the broadcast on Facebook @sonomacountycots\, on Youtube @COTSPetaluma or at cots.org. To RSVP go to give.cots.org/cotshourathome
X-ALT-DESC;FMTTYPE=text/html:The COTS Hour is going virtual! Join us for the annual COTS Hours at Home to learn more about the impact COTS has on our community and the work we do to end homelessness. You can view the broadcast on Facebook @sonomacountycots\, on Youtube @COTSPetaluma or at cots.org. To RSVP go to give.cots.org/cotshourathome
LOCATION:Online
UID:e.1308.14119
SEQUENCE:3
DTSTAMP:20260421T071343Z
URL:https://business.petalumachamber.biz/events/details/cots-hour-at-home-14119
END:VEVENT

END:VCALENDAR
