BEGIN:VCALENDAR
VERSION:2.0
PRODID:-//ChamberMaster//Event Calendar 2.0//EN
METHOD:PUBLISH
X-PUBLISHED-TTL:P3D
REFRESH-INTERVAL:P3D
CALSCALE:GREGORIAN
BEGIN:VEVENT
DTSTART:20200216T013000Z
DTEND:20200216T050000Z
X-MICROSOFT-CDO-ALLDAYEVENT:FALSE
SUMMARY:Crab Feed Benefits Penngrove Social Firemen
DESCRIPTION:Crab\, pasta\, salad\, bread and no-host bar. These volunteers know how to do the crab just right! All proceeds support improvements to Penngrove Park and Clubhouse\, and for the benefit of the community. Tickets are available at JavAmore Caf \, 10101 Main Street\, Penngrove. Online tickets are available at Brown Paper Tickets: https://www.brownpapertickets.com/event/4483904
X-ALT-DESC;FMTTYPE=text/html:Crab\, pasta\, salad\, bread and no-host bar. These volunteers know how to do the crab just right! All proceeds support improvements to Penngrove Park and Clubhouse\, and for the benefit of the community. Tickets are available at JavAmore Caf&eacute\;\, 10101 Main Street\, Penngrove. Online tickets are available at Brown Paper Tickets: https://www.brownpapertickets.com/event/4483904
LOCATION:Penngrove Community Clubhouse 385 Woodward St.\, Penngrove CA - Corner of Oak St. and Woodward
UID:e.1308.13981
SEQUENCE:3
DTSTAMP:20260420T143628Z
URL:https://business.petalumachamber.biz/events/details/crab-feed-benefits-penngrove-social-firemen-13981
END:VEVENT

END:VCALENDAR
