BEGIN:VCALENDAR
VERSION:2.0
PRODID:-//ChamberMaster//Event Calendar 2.0//EN
METHOD:PUBLISH
X-PUBLISHED-TTL:P3D
REFRESH-INTERVAL:P3D
CALSCALE:GREGORIAN
BEGIN:VEVENT
DTSTART:20220409T170000Z
DTEND:20220409T230000Z
X-MICROSOFT-CDO-ALLDAYEVENT:FALSE
SUMMARY:Craft & Vendor Faire at the Elks Lodge
DESCRIPTION:FREE ADMISSION   OPEN TO THE PUBLIC as well as Elk Members! All indoors at the Elks Lodge 901 Local Artisans\, Hand-Crafted Items\, Unique Goods! Food\, snacks\, and more fun! CRAFTERS & VENDORS Reserve your Table by Mar 9.
X-ALT-DESC;FMTTYPE=text/html:FREE ADMISSION &bull\; OPEN TO THE PUBLIC as well as Elk Members! All indoors at the Elks Lodge 901 Local Artisans\, Hand-Crafted Items\, Unique Goods! Food\, snacks\, and more fun! CRAFTERS &amp\; VENDORS Reserve your Table by Mar 9.
LOCATION:Elks Lodge 901 2105 So McDowell Ext Petaluma CA
UID:e.1308.16379
SEQUENCE:3
DTSTAMP:20260422T100057Z
URL:https://business.petalumachamber.biz/events/details/craft-vendor-faire-at-the-elks-lodge-16379
END:VEVENT

END:VCALENDAR
