BEGIN:VCALENDAR
VERSION:2.0
PRODID:-//ChamberMaster//Event Calendar 2.0//EN
METHOD:PUBLISH
X-PUBLISHED-TTL:P3D
REFRESH-INTERVAL:P3D
CALSCALE:GREGORIAN
BEGIN:VEVENT
DTSTART:20210213T020000Z
DTEND:20210213T033000Z
X-MICROSOFT-CDO-ALLDAYEVENT:FALSE
SUMMARY:Date Night with LBC - Your Love Connection
DESCRIPTION:Celebrate with us as we commemorate 40 amazing years of Connecting Our Community with special\, virtual events starting with Date Night with LBC. DATE NIGHT - YOUR LOVE CONNECTION FRIDAY FEBRUARY 12\, 2021 6PM PT Featuring: A performance by internationally renowned jazz artist Jonathan Butler. Butler pours his heart into selections from his immense catalogue\, including a tribute album to Burt Bacharach and other love songs to make you want to slow dance in your living room. The culinary talents of the chefs from Dry Creek Kitchen\, Valette\, Campo Fina\, Healdsburg Bar & Grill\, PizzaLeah and Salt & Stone preparing a 3-course romantic meal for two for pick-up. Paired with the premium wines of Mauritson\, Arista Winery\, Comstock Wines\, Rodney Strong Vineyards\, En Garde and Abbot's Passage. Presented by Luther Burbank Center for the Arts
X-ALT-DESC;FMTTYPE=text/html:Celebrate with us as we commemorate 40 amazing years of Connecting Our Community with special\, virtual events starting with Date Night with LBC. DATE NIGHT - YOUR LOVE CONNECTION FRIDAY FEBRUARY 12\, 2021 6PM PT Featuring: A performance by internationally renowned jazz artist Jonathan Butler. Butler pours his heart into selections from his immense catalogue\, including a tribute album to Burt Bacharach and other love songs to make you want to slow dance in your living room. The culinary talents of the chefs from Dry Creek Kitchen\, Valette\, Campo Fina\, Healdsburg Bar &amp\; Grill\, PizzaLeah and Salt &amp\; Stone preparing a 3-course romantic meal for two for pick-up. Paired with the premium wines of Mauritson\, Arista Winery\, Comstock Wines\, Rodney Strong Vineyards\, En Garde and Abbot&#39\;s Passage. Presented by Luther Burbank Center for the Arts
LOCATION:Virtual Date Night
UID:e.1308.14127
SEQUENCE:3
DTSTAMP:20260421T104538Z
URL:https://business.petalumachamber.biz/events/details/date-night-with-lbc-your-love-connection-14127
END:VEVENT

END:VCALENDAR
