BEGIN:VCALENDAR
VERSION:2.0
PRODID:-//ChamberMaster//Event Calendar 2.0//EN
METHOD:PUBLISH
X-PUBLISHED-TTL:P3D
REFRESH-INTERVAL:P3D
CALSCALE:GREGORIAN
BEGIN:VEVENT
DTSTART:20190416T203000Z
DTEND:20190416T220000Z
X-MICROSOFT-CDO-ALLDAYEVENT:FALSE
SUMMARY:Daytripping: Exploring New Horizons
DESCRIPTION:Daytripping offers a new way to enjoy the world around us. Discover an array of organized one-day trips close to home and longer ones all over the country. Learn about all types of excursions\, including performing arts\, museum tours\, and sports events. To reserve a seat\, RSVP by April 9 to info@VillageNetworkofPetaluma.org or 707-776-6055. Presenter Spencer Gold has been a tour planner and director for the Daytripping Travel Company for over nine years. He has a passion for travel and is enjoys providing age-friendly tour experiences
X-ALT-DESC;FMTTYPE=text/html:Daytripping offers a new way to enjoy the world around us. Discover an array of organized one-day trips close to home and longer ones all over the country. Learn about all types of excursions\, including performing arts\, museum tours\, and sports events. To reserve a seat\, RSVP by April 9 to info@VillageNetworkofPetaluma.org or 707-776-6055. Presenter Spencer Gold has been a tour planner and director for the Daytripping Travel Company for over nine years. He has a passion for travel and is enjoys providing age-friendly tour experiences
LOCATION:Village Network office\, 955 Petaluma Blvd. South\, Petaluma
UID:e.1308.12937
SEQUENCE:3
DTSTAMP:20260419T210007Z
URL:https://business.petalumachamber.biz/events/details/daytripping-exploring-new-horizons-12937
END:VEVENT

END:VCALENDAR
