BEGIN:VCALENDAR
VERSION:2.0
PRODID:-//ChamberMaster//Event Calendar 2.0//EN
METHOD:PUBLISH
X-PUBLISHED-TTL:P3D
REFRESH-INTERVAL:P3D
CALSCALE:GREGORIAN
BEGIN:VEVENT
DTSTART;VALUE=DATE:20191205
DTEND;VALUE=DATE:20191206
TRANSP:TRANSPARENT
X-MICROSOFT-CDO-ALLDAYEVENT:TRUE
SUMMARY:Dining Out For Life
DESCRIPTION:Dine Out to Give Back! On Thursday\, December 5\, 2019\, more than 80 Sonoma County restaurants will donate 25% or more of their proceeds to Food For Thought\, a local nonprofit dedicated to meeting the nutritional needs of people living with HIV and other serious illnesses in Sonoma County. All you have to do is donate your appetite! Visit www.fftfoodbank.org/dining-out-for-life/ for more information and a complete list of participating restaurants. Food For Thought provides weekly groceries\, nutrition counseling\, healthy cooking classes\, and a congregate lunch program three days a week all free of charge to its 850 clients.
X-ALT-DESC;FMTTYPE=text/html:Dine Out to Give Back! On Thursday\, December 5\, 2019\, more than 80 Sonoma County restaurants will donate 25% or more of their proceeds to Food For Thought\, a local nonprofit dedicated to meeting the nutritional needs of people living with HIV and other serious illnesses in Sonoma County. All you have to do is donate your appetite! Visit www.fftfoodbank.org/dining-out-for-life/ for more information and a complete list of participating restaurants. Food For Thought provides weekly groceries\, nutrition counseling\, healthy cooking classes\, and a congregate lunch program three days a week&mdash\;all free of charge to its 850 clients.
LOCATION:Across Sonoma County
UID:e.1308.13943
SEQUENCE:3
DTSTAMP:20260420T112241Z
URL:https://business.petalumachamber.biz/events/details/dining-out-for-life-13943
END:VEVENT

END:VCALENDAR
