BEGIN:VCALENDAR
VERSION:2.0
PRODID:-//ChamberMaster//Event Calendar 2.0//EN
METHOD:PUBLISH
X-PUBLISHED-TTL:P3D
REFRESH-INTERVAL:P3D
CALSCALE:GREGORIAN
BEGIN:VEVENT
DTSTART:20181116T003000Z
DTEND:20181116T020000Z
X-MICROSOFT-CDO-ALLDAYEVENT:FALSE
SUMMARY:Diverse Senior Care Business After Hours
DESCRIPTION:Join is in welcoming Diverse Senior Care to their new location at their grand re-opening celebration and ribbon cutting ceremony. Refreshments and appetizers will be served. Raffle prizes!\n\n*Use stairs to access!*
X-ALT-DESC;FMTTYPE=text/html:<span style="color: rgb(64\, 63\, 66)\; font-family: Arial\, Verdana\, Helvetica\, sans-serif\; font-size: 14px\; white-space: pre-wrap\;">Join is in welcoming Diverse Senior Care to their new location at their grand re-opening celebration and ribbon cutting ceremony. Refreshments and appetizers will be served. Raffle prizes!<br />\n*Use stairs to access!*</span>
LOCATION:620 E Washington St\, Suite 207 Petaluma CA 94952
UID:e.1308.12814
SEQUENCE:3
DTSTAMP:20260419T130631Z
URL:https://business.petalumachamber.biz/events/details/diverse-senior-care-business-after-hours-12814
END:VEVENT

END:VCALENDAR
