BEGIN:VCALENDAR
VERSION:2.0
PRODID:-//ChamberMaster//Event Calendar 2.0//EN
METHOD:PUBLISH
X-PUBLISHED-TTL:P3D
REFRESH-INTERVAL:P3D
CALSCALE:GREGORIAN
BEGIN:VEVENT
DTSTART:20200425T190000Z
DTEND:20200425T230000Z
X-MICROSOFT-CDO-ALLDAYEVENT:FALSE
SUMMARY:Earth Day
DESCRIPTION:This fun\, FREE\, family-friendly festival is a great way to inspire awareness and build community through environmental protection. Don't miss this opportunity to enjoy great food\, live performances Onstage\, local and earth-friendly products\, and Eco-friendly crafts and activities for kids.
X-ALT-DESC;FMTTYPE=text/html:This fun\, FREE\, family-friendly festival is a great way to inspire awareness and build community through environmental protection. Don&#39\;t miss this opportunity to enjoy great food\, live performances Onstage\, local and earth-friendly products\, and Eco-friendly crafts and activities for kids.
LOCATION:Old Courthouse Square at Santa Rosa
UID:e.1308.14064
SEQUENCE:3
DTSTAMP:20260420T175852Z
URL:https://business.petalumachamber.biz/events/details/earth-day-14064
END:VEVENT

END:VCALENDAR
