BEGIN:VCALENDAR
VERSION:2.0
PRODID:-//ChamberMaster//Event Calendar 2.0//EN
METHOD:PUBLISH
X-PUBLISHED-TTL:P3D
REFRESH-INTERVAL:P3D
CALSCALE:GREGORIAN
BEGIN:VEVENT
DTSTART:20190314T233000Z
DTEND:20190315T010000Z
X-MICROSOFT-CDO-ALLDAYEVENT:FALSE
SUMMARY:Edward Jones Financial Adviser Ricky Cataldi Business After Hours
DESCRIPTION:Financial Advisor Ricky Cataldi invites you to Edward Jones for a Business After Hours event. Representatives from the Alzheimer's Foundation will be present. Hors d'oeuvres and refreshments will be served.
X-ALT-DESC;FMTTYPE=text/html:<span style="color: rgb(29\, 33\, 41)\; font-family: Helvetica\, Arial\, sans-serif\; font-size: 12px\; white-space: pre-wrap\;">Financial Advisor Ricky Cataldi invites you to Edward Jones for a Business After Hours event. Representatives from the Alzheimer&#39\;s Foundation will be present. Hors d&#39\;oeuvres and refreshments will be served.</span>
LOCATION:775 Baywood Drive\, Suite 103
UID:e.1308.12919
SEQUENCE:3
DTSTAMP:20260419T194437Z
URL:https://business.petalumachamber.biz/events/details/edward-jones-financial-adviser-ricky-cataldi-business-after-hours-12919
END:VEVENT

END:VCALENDAR
