BEGIN:VCALENDAR
VERSION:2.0
PRODID:-//ChamberMaster//Event Calendar 2.0//EN
METHOD:PUBLISH
X-PUBLISHED-TTL:P3D
REFRESH-INTERVAL:P3D
CALSCALE:GREGORIAN
BEGIN:VEVENT
DTSTART:20190228T011500Z
DTEND:20190228T023000Z
X-MICROSOFT-CDO-ALLDAYEVENT:FALSE
SUMMARY:Edward Jones/Franklin Templeton Social Security Seminar hosted by Red Brick
DESCRIPTION:Red Brick presents Securing Social Security: Today\, Tomorrow and for the Future\, an Edward Jones/Franklin Templeton seminar. \n\n\n\nRicky Cataldi of Edward Jones and Andrew Prupas of Franklin Templeton will be hosting a speaking event to educate clients on the many decisions involved in claiming Social Security\, as well as their consequences\, and provide strategies to maximize the benefits received.\n\n\n\nThe seminar is being hosted by Red Brick Restaurant in their back events room\, and dinner will be served to all attendees. This is a free event and all are welcome to attend!
X-ALT-DESC;FMTTYPE=text/html:<span style="font-size:14px"><strong>Red Brick presents Securing Social Security: Today\, Tomorrow and for the Future\, an Edward Jones/Franklin Templeton seminar. </strong><br />\n<br />\n<span style="font-size:12px">Ricky Cataldi of Edward Jones and Andrew Prupas of Franklin Templeton will be hosting a speaking event to educate clients </span></span><span style="font-size:12px">on the many decisions involved in claiming Social Security\, as well as their consequences\, and provide strategies to maximize the benefits received.<br />\n<br />\nThe seminar&nbsp\;is being hosted by Red Brick Restaurant in their back events room\, and dinner will be served to all attendees. This is a free event and all are welcome to attend!</span><br />\n<br />\n<br />\n&nbsp\;
LOCATION:Red Brick Restaurant 101 2nd St. #190\, Petaluma\, CA 94952 In the Theatre District\, across from the Chamber of Commerce
UID:e.1308.12925
SEQUENCE:3
DTSTAMP:20260419T175208Z
URL:https://business.petalumachamber.biz/events/details/edward-jones-franklin-templeton-social-security-seminar-hosted-by-red-brick-12925
END:VEVENT

END:VCALENDAR
