BEGIN:VCALENDAR
VERSION:2.0
PRODID:-//ChamberMaster//Event Calendar 2.0//EN
METHOD:PUBLISH
X-PUBLISHED-TTL:P3D
REFRESH-INTERVAL:P3D
CALSCALE:GREGORIAN
BEGIN:VEVENT
DTSTART:20181201T003000Z
DTEND:20181201T023000Z
X-MICROSOFT-CDO-ALLDAYEVENT:FALSE
SUMMARY:Eikos Grand Opening and Ribbon Cutting
DESCRIPTION:Join us in celebrating with Eikos Kitchen and Bath Studio at their grand opening celebration and ribbon cutting ceremony! \n\n	Food and Refreshments\n	Great Door Prizes\n	Tickets for sale benefit North Bay Animal Services\n	50/50 raffle cash prize
X-ALT-DESC;FMTTYPE=text/html:Join us in celebrating with Eikos Kitchen and Bath Studio at their grand opening celebration and ribbon cutting ceremony!&nbsp\;\n<ul>\n	<li>Food and Refreshments</li>\n	<li>Great Door Prizes</li>\n	<li>Tickets for sale benefit North Bay Animal Services</li>\n	<li>50/50 raffle cash prize</li>\n</ul>\n
LOCATION:4232 Petaluma Blvd N Petaluma
UID:e.1308.12815
SEQUENCE:3
DTSTAMP:20260419T130642Z
URL:https://business.petalumachamber.biz/events/details/eikos-grand-opening-and-ribbon-cutting-12815
END:VEVENT

END:VCALENDAR
