BEGIN:VCALENDAR
VERSION:2.0
PRODID:-//ChamberMaster//Event Calendar 2.0//EN
METHOD:PUBLISH
X-PUBLISHED-TTL:P3D
REFRESH-INTERVAL:P3D
CALSCALE:GREGORIAN
BEGIN:VEVENT
DTSTART:20211014T170000Z
DTEND:20211030T230000Z
X-MICROSOFT-CDO-ALLDAYEVENT:FALSE
SUMMARY:EL AMOR NUNCA MUERE / LOVE NEVER DIES
DESCRIPTION:EL AMOR NUNCA MUERE / LOVE NEVER DIES Collectively remembering and honoring our loved ones and ancestors by celebrating the traditions of El D a de Los Muertos with altars\, art\, music\, dance\, food\, community\, and love. Featured Artist: Panda Fibarra Supporting Artists: Peter Perez\, Martin Zu iga\, Nestor Torres Lupercio\, Doug Ballou Curated by: El D a de Los Muertos Petaluma --- Colectivamente recordamos y honramos a nuestros queridos difuntos y antepasados el tradicional D a de los Muertos\, celebrando con altares\, arte\, m sica\, baile\, comida\, la familia y el amor. El artista destacado Panda Fibarra junto a un reparto de artistas formado por Peter Perez\, Martin Zu iga\, Nestor Torres Lupercio\, Doug Ballou Esta exhibici n es organizada por El D a de Los Muertos Petaluma
X-ALT-DESC;FMTTYPE=text/html:EL AMOR NUNCA MUERE / LOVE NEVER DIES Collectively remembering and honoring our loved ones and ancestors by celebrating the traditions of El D&iacute\;a de Los Muertos with altars\, art\, music\, dance\, food\, community\, and love. Featured Artist: Panda Fibarra Supporting Artists: Peter Perez\, Martin Zu&ntilde\;iga\, Nestor Torres Lupercio\, Doug Ballou Curated by: El D&iacute\;a de Los Muertos Petaluma --- Colectivamente recordamos y honramos a nuestros queridos difuntos y antepasados el tradicional D&iacute\;a de los Muertos\, celebrando con altares\, arte\, m&uacute\;sica\, baile\, comida\, la familia y el amor. El artista destacado Panda Fibarra junto a un reparto de artistas formado por Peter Perez\, Martin Zu&ntilde\;iga\, Nestor Torres Lupercio\, Doug Ballou Esta exhibici&oacute\;n es organizada por El D&iacute\;a de Los Muertos Petaluma
LOCATION:Petaluma Arts Center 230 Lakeville Road Petaluma\, CA 94952
UID:e.1308.16363
SEQUENCE:3
DTSTAMP:20260422T000053Z
URL:https://business.petalumachamber.biz/events/details/el-amor-nunca-muere-love-never-dies-16363
END:VEVENT

END:VCALENDAR
