BEGIN:VCALENDAR
VERSION:2.0
PRODID:-//ChamberMaster//Event Calendar 2.0//EN
METHOD:PUBLISH
X-PUBLISHED-TTL:P3D
REFRESH-INTERVAL:P3D
CALSCALE:GREGORIAN
BEGIN:VEVENT
DTSTART:20211102T220000Z
DTEND:20211103T020000Z
X-MICROSOFT-CDO-ALLDAYEVENT:FALSE
SUMMARY:El Día de Los Muertos - Closing Celebration
DESCRIPTION:Petaluma Arts Center's current Exhibition\, EL AMOR NUNCA MUERE / LOVE NEVER DIES curated by El D a de Los Muertos Petaluma will be a final celebration of the month long exhibit. Admission is free and open to the public. Proof of COVID-19 vaccination is required for visitors ages 12+. Masks are required for all visitors.
X-ALT-DESC;FMTTYPE=text/html:Petaluma Arts Center&#39\;s current Exhibition\, EL AMOR NUNCA MUERE / LOVE NEVER DIES curated by El D&iacute\;a de Los Muertos Petaluma will be a final celebration of the month long exhibit. Admission is free and open to the public. Proof of COVID-19 vaccination is required for visitors ages 12+. Masks are required for all visitors.
LOCATION:Petaluma Arts Center 230 Lakeville Road Petaluma\, CA 94952
UID:e.1308.16362
SEQUENCE:3
DTSTAMP:20260422T012954Z
URL:https://business.petalumachamber.biz/events/details/el-d&#237;a-de-los-muertos-closing-celebration-16362
END:VEVENT

END:VCALENDAR
