BEGIN:VCALENDAR
VERSION:2.0
PRODID:-//ChamberMaster//Event Calendar 2.0//EN
METHOD:PUBLISH
X-PUBLISHED-TTL:P3D
REFRESH-INTERVAL:P3D
CALSCALE:GREGORIAN
BEGIN:VEVENT
DTSTART:20210912T150000Z
DTEND:20210912T200000Z
X-MICROSOFT-CDO-ALLDAYEVENT:FALSE
SUMMARY:Elks Charity RUMMAGE SALE
DESCRIPTION:Our Annual Rummage Sale! Sunday\, Sept 12 from 8am to 1pm. Want to contribute? Drop-off gently used items Saturday\, Sept 11 from 9am to noon (or week of Sept 6 thru 10 during office hours). Please\, no TV's\, large items requiring more than one person to move\, no broken items or items missing pieces. Please check that items are in working condition. AND TELL YOUR FRIENDS! https://elks901.org/
X-ALT-DESC;FMTTYPE=text/html:Our Annual Rummage Sale! Sunday\, Sept 12 from 8am to 1pm. Want to contribute? Drop-off gently used items Saturday\, Sept 11 from 9am to noon (or week of Sept 6 thru 10 during office hours). Please\, no TV&rsquo\;s\, large items requiring more than one person to move\, no broken items or items missing pieces. Please check that items are in working condition. AND TELL YOUR FRIENDS! https://elks901.org/
LOCATION:In the Parking Lot: Petaluma Elks Lodge 901 - 2105 South McDowell Boulevard Petaluma\, CA 94954
UID:e.1308.16347
SEQUENCE:3
DTSTAMP:20260421T222145Z
URL:https://business.petalumachamber.biz/events/details/elks-charity-rummage-sale-16347
END:VEVENT

END:VCALENDAR
