BEGIN:VCALENDAR
VERSION:2.0
PRODID:-//ChamberMaster//Event Calendar 2.0//EN
METHOD:PUBLISH
X-PUBLISHED-TTL:P3D
REFRESH-INTERVAL:P3D
CALSCALE:GREGORIAN
BEGIN:VEVENT
DTSTART:20200305T220000Z
DTEND:20200306T020000Z
X-MICROSOFT-CDO-ALLDAYEVENT:FALSE
SUMMARY:Eyewear Show
DESCRIPTION:Spring Eyewear Show featuring Gucci and Kate Spade Frames and Sunglasses\n\nCome by to try on the latest styles and have refreshments
X-ALT-DESC;FMTTYPE=text/html:Spring Eyewear Show featuring Gucci and Kate Spade Frames and Sunglasses<br />\nCome by to try on the latest styles and have refreshments
LOCATION:Westside Optometry 320 Petaluma Blvd South Petaluma\, CA 94952 707-762-8643 www.westsideoptometry.net
UID:e.1308.13979
SEQUENCE:3
DTSTAMP:20260420T162417Z
URL:https://business.petalumachamber.biz/events/details/eyewear-show-03-05-2020-13979
END:VEVENT

END:VCALENDAR
