BEGIN:VCALENDAR
VERSION:2.0
PRODID:-//ChamberMaster//Event Calendar 2.0//EN
METHOD:PUBLISH
X-PUBLISHED-TTL:P3D
REFRESH-INTERVAL:P3D
CALSCALE:GREGORIAN
BEGIN:VEVENT
DTSTART:20181130T020000Z
DTEND:20181130T043000Z
X-MICROSOFT-CDO-ALLDAYEVENT:FALSE
SUMMARY:Fall Maker Series
DESCRIPTION:Learn basic embroidery stitches to create patches or embroider directly onto existing clothes. All supplies\, patterns\, tracing paper\, threads and needles will be provided and are yours to keep. This workshop is suitable for all levels.\n\n\n\nInstructor: Meret Piderman
X-ALT-DESC;FMTTYPE=text/html:<span style="color:rgb(32\, 33\, 36)\; font-family:roboto\,arial\,sans-serif\; font-size:16px">Learn basic embroidery stitches to create patches or embroider directly onto existing clothes. All supplies\, patterns\, tracing paper\, threads and needles will be provided and are yours to keep. This workshop is suitable for all levels.<br />\n<br />\nInstructor: Meret Piderman</span>
LOCATION:Keller Street CoWork 140 Keller Street Petaluma\, CA
UID:e.1308.12832
SEQUENCE:3
DTSTAMP:20260419T130017Z
URL:https://business.petalumachamber.biz/events/details/fall-maker-series-11-29-2018-12832
END:VEVENT

END:VCALENDAR
